Package: SplicingGraphs Version: 1.46.0 Command: rm -rf SplicingGraphs.buildbin-libdir && mkdir SplicingGraphs.buildbin-libdir && /Users/biocbuild/BBS/utils/build-universal.sh SplicingGraphs_1.46.0.tar.gz /Library/Frameworks/R.framework/Resources/bin/R SplicingGraphs.buildbin-libdir StartedAt: 2024-11-20 04:53:46 -0500 (Wed, 20 Nov 2024) EndedAt: 2024-11-20 04:54:51 -0500 (Wed, 20 Nov 2024) EllapsedTime: 65.4 seconds RetCode: 0 Status: OK PackageFile: SplicingGraphs_1.46.0.tgz PackageFileSize: 4.814 MiB