Package: SplicingGraphs Version: 1.46.0 Command: rm -rf SplicingGraphs.buildbin-libdir && mkdir SplicingGraphs.buildbin-libdir && /Users/biocbuild/BBS/utils/build-universal.sh SplicingGraphs_1.46.0.tar.gz /Library/Frameworks/R.framework/Resources/bin/R SplicingGraphs.buildbin-libdir StartedAt: 2025-01-31 13:46:59 -0500 (Fri, 31 Jan 2025) EndedAt: 2025-01-31 13:48:36 -0500 (Fri, 31 Jan 2025) EllapsedTime: 97.1 seconds RetCode: 0 Status: OK PackageFile: SplicingGraphs_1.46.0.tgz PackageFileSize: 4.814 MiB