Package: SplicingGraphs Version: 1.46.0 Command: /Library/Frameworks/R.framework/Resources/bin/R CMD INSTALL SplicingGraphs StartedAt: 2025-02-10 15:33:47 -0500 (Mon, 10 Feb 2025) EndedAt: 2025-02-10 15:35:15 -0500 (Mon, 10 Feb 2025) EllapsedTime: 88.1 seconds RetCode: 0 Status: OK