Package: SplicingGraphs Version: 1.46.0 Command: /home/biocbuild/bbs-3.20-bioc/R/bin/R CMD check --install=check:SplicingGraphs.install-out.txt --library=/home/biocbuild/bbs-3.20-bioc/R/site-library --timings SplicingGraphs_1.46.0.tar.gz StartedAt: 2025-02-04 02:49:36 -0500 (Tue, 04 Feb 2025) EndedAt: 2025-02-04 02:58:08 -0500 (Tue, 04 Feb 2025) EllapsedTime: 512.5 seconds RetCode: 0 Status: WARNINGS CheckDir: SplicingGraphs.Rcheck Warnings: 2