Package: SplicingGraphs Version: 1.46.0 Command: rm -rf SplicingGraphs.buildbin-libdir && mkdir SplicingGraphs.buildbin-libdir && F:\biocbuild\bbs-3.20-bioc\R\bin\R.exe CMD INSTALL --build --library=SplicingGraphs.buildbin-libdir SplicingGraphs_1.46.0.tar.gz StartedAt: 2025-02-04 09:36:02 -0500 (Tue, 04 Feb 2025) EndedAt: 2025-02-04 09:37:27 -0500 (Tue, 04 Feb 2025) EllapsedTime: 85.1 seconds RetCode: 0 Status: OK PackageFile: SplicingGraphs_1.46.0.zip PackageFileSize: 4.567 MiB