Package: SplicingGraphs Version: 1.46.0 Command: F:\biocbuild\bbs-3.20-bioc\R\bin\R.exe CMD INSTALL SplicingGraphs StartedAt: 2025-02-03 16:43:34 -0500 (Mon, 03 Feb 2025) EndedAt: 2025-02-03 16:45:10 -0500 (Mon, 03 Feb 2025) EllapsedTime: 95.9 seconds RetCode: 0 Status: OK