Package: SplicingGraphs Version: 1.46.0 Command: /home/biocbuild/R/R/bin/R CMD check --install=check:SplicingGraphs.install-out.txt --library=/home/biocbuild/R/R/site-library --no-vignettes --timings SplicingGraphs_1.46.0.tar.gz StartedAt: 2025-02-04 11:21:52 -0000 (Tue, 04 Feb 2025) EndedAt: 2025-02-04 11:30:32 -0000 (Tue, 04 Feb 2025) EllapsedTime: 519.6 seconds RetCode: 0 Status: WARNINGS CheckDir: SplicingGraphs.Rcheck Warnings: 2