Package: SpotClean Version: 1.8.0 Command: rm -rf SpotClean.buildbin-libdir && mkdir SpotClean.buildbin-libdir && /Users/biocbuild/BBS/utils/build-universal.sh SpotClean_1.8.0.tar.gz /Library/Frameworks/R.framework/Resources/bin/R SpotClean.buildbin-libdir StartedAt: 2025-02-12 17:12:15 -0500 (Wed, 12 Feb 2025) EndedAt: 2025-02-12 17:13:04 -0500 (Wed, 12 Feb 2025) EllapsedTime: 48.4 seconds RetCode: 0 Status: OK PackageFile: SpotClean_1.8.0.tgz PackageFileSize: 4.333 MiB