Package: SpotClean Version: 1.8.0 Command: /Library/Frameworks/R.framework/Resources/bin/R CMD build --keep-empty-dirs --no-resave-data SpotClean StartedAt: 2025-02-04 09:05:36 -0500 (Tue, 04 Feb 2025) EndedAt: 2025-02-04 09:10:22 -0500 (Tue, 04 Feb 2025) EllapsedTime: 285.7 seconds RetCode: 0 Status: OK PackageFile: SpotClean_1.8.0.tar.gz PackageFileSize: 4.273 MiB