Package: SpotClean Version: 1.8.0 Command: /Library/Frameworks/R.framework/Resources/bin/R CMD check --install=check:SpotClean.install-out.txt --library=/Library/Frameworks/R.framework/Resources/library --no-vignettes --timings SpotClean_1.8.0.tar.gz StartedAt: 2025-02-05 11:35:09 -0500 (Wed, 05 Feb 2025) EndedAt: 2025-02-05 11:47:26 -0500 (Wed, 05 Feb 2025) EllapsedTime: 737.3 seconds RetCode: 0 Status: OK CheckDir: SpotClean.Rcheck Warnings: 0