Package: SpotClean Version: 1.8.0 Command: /Library/Frameworks/R.framework/Resources/bin/R CMD build --keep-empty-dirs --no-resave-data SpotClean StartedAt: 2025-02-03 22:38:03 -0500 (Mon, 03 Feb 2025) EndedAt: 2025-02-03 22:43:20 -0500 (Mon, 03 Feb 2025) EllapsedTime: 317.4 seconds RetCode: 0 Status: OK PackageFile: SpotClean_1.8.0.tar.gz PackageFileSize: 4.274 MiB