Package: SpotClean Version: 1.8.0 Command: /home/biocbuild/R/R/bin/R CMD INSTALL SpotClean StartedAt: 2025-02-10 20:56:01 -0000 (Mon, 10 Feb 2025) EndedAt: 2025-02-10 20:56:50 -0000 (Mon, 10 Feb 2025) EllapsedTime: 48.6 seconds RetCode: 0 Status: OK