Package: SpotSweeper Version: 1.2.0 Command: rm -rf SpotSweeper.buildbin-libdir && mkdir SpotSweeper.buildbin-libdir && /Users/biocbuild/BBS/utils/build-universal.sh SpotSweeper_1.2.0.tar.gz /Library/Frameworks/R.framework/Resources/bin/R SpotSweeper.buildbin-libdir StartedAt: 2025-02-01 17:03:42 -0500 (Sat, 01 Feb 2025) EndedAt: 2025-02-01 17:04:26 -0500 (Sat, 01 Feb 2025) EllapsedTime: 44.6 seconds RetCode: 0 Status: OK PackageFile: SpotSweeper_1.2.0.tgz PackageFileSize: 3.944 MiB