Package: SpotSweeper Version: 1.2.0 Command: /Library/Frameworks/R.framework/Resources/bin/R CMD INSTALL SpotSweeper StartedAt: 2025-01-30 16:32:19 -0500 (Thu, 30 Jan 2025) EndedAt: 2025-01-30 16:33:47 -0500 (Thu, 30 Jan 2025) EllapsedTime: 88.0 seconds RetCode: 0 Status: OK