Package: SpotSweeper Version: 1.2.0 Command: rm -rf SpotSweeper.buildbin-libdir && mkdir SpotSweeper.buildbin-libdir && F:\biocbuild\bbs-3.20-bioc\R\bin\R.exe CMD INSTALL --build --library=SpotSweeper.buildbin-libdir SpotSweeper_1.2.0.tar.gz StartedAt: 2025-01-31 09:43:06 -0500 (Fri, 31 Jan 2025) EndedAt: 2025-01-31 09:43:52 -0500 (Fri, 31 Jan 2025) EllapsedTime: 46.6 seconds RetCode: 0 Status: OK PackageFile: SpotSweeper_1.2.0.zip PackageFileSize: 3.09 MiB