Package: SpotSweeper Version: 1.2.0 Command: chmod a+r SpotSweeper -R && F:\biocbuild\bbs-3.20-bioc\R\bin\R.exe CMD build --keep-empty-dirs --no-resave-data SpotSweeper StartedAt: 2025-01-30 22:05:58 -0500 (Thu, 30 Jan 2025) EndedAt: 2025-01-30 22:09:02 -0500 (Thu, 30 Jan 2025) EllapsedTime: 184.3 seconds RetCode: 0 Status: OK PackageFile: SpotSweeper_1.2.0.tar.gz PackageFileSize: 3.065 MiB