Package: SpotSweeper Version: 1.2.0 Command: F:\biocbuild\bbs-3.20-bioc\R\bin\R.exe CMD check --no-multiarch --install=check:SpotSweeper.install-out.txt --library=F:\biocbuild\bbs-3.20-bioc\R\library --no-vignettes --timings SpotSweeper_1.2.0.tar.gz StartedAt: 2025-01-31 06:52:16 -0500 (Fri, 31 Jan 2025) EndedAt: 2025-01-31 07:02:02 -0500 (Fri, 31 Jan 2025) EllapsedTime: 585.6 seconds RetCode: 0 Status: OK CheckDir: SpotSweeper.Rcheck Warnings: 0