Package: SpotSweeper Version: 1.2.0 Command: /home/biocbuild/R/R/bin/R CMD INSTALL SpotSweeper StartedAt: 2025-01-30 20:59:15 -0000 (Thu, 30 Jan 2025) EndedAt: 2025-01-30 20:59:16 -0000 (Thu, 30 Jan 2025) EllapsedTime: 1.2 seconds RetCode: 1 Status: ERROR