Package: StabMap Version: 1.0.0 Command: rm -rf StabMap.buildbin-libdir && mkdir StabMap.buildbin-libdir && F:\biocbuild\bbs-3.20-bioc\R\bin\R.exe CMD INSTALL --build --library=StabMap.buildbin-libdir StabMap_1.0.0.tar.gz StartedAt: 2025-02-04 09:37:11 -0500 (Tue, 04 Feb 2025) EndedAt: 2025-02-04 09:37:42 -0500 (Tue, 04 Feb 2025) EllapsedTime: 31.1 seconds RetCode: 0 Status: OK PackageFile: StabMap_1.0.0.zip PackageFileSize: 1.362 MiB