Package: StabMap Version: 1.0.0 Command: F:\biocbuild\bbs-3.20-bioc\R\bin\R.exe CMD INSTALL StabMap StartedAt: 2025-02-10 16:53:57 -0500 (Mon, 10 Feb 2025) EndedAt: 2025-02-10 16:54:26 -0500 (Mon, 10 Feb 2025) EllapsedTime: 29.3 seconds RetCode: 0 Status: OK