Package: StabMap Version: 1.0.0 Command: /home/biocbuild/R/R/bin/R CMD INSTALL StabMap StartedAt: 2025-02-10 21:00:40 -0000 (Mon, 10 Feb 2025) EndedAt: 2025-02-10 21:01:05 -0000 (Mon, 10 Feb 2025) EllapsedTime: 24.7 seconds RetCode: 0 Status: OK