Package: Streamer Version: 1.52.0 Command: /Library/Frameworks/R.framework/Resources/bin/R CMD INSTALL Streamer StartedAt: 2025-02-10 15:15:02 -0500 (Mon, 10 Feb 2025) EndedAt: 2025-02-10 15:15:12 -0500 (Mon, 10 Feb 2025) EllapsedTime: 10.7 seconds RetCode: 0 Status: OK