Package: Streamer Version: 1.52.0 Command: /home/biocbuild/bbs-3.20-bioc/R/bin/R CMD build --keep-empty-dirs --no-resave-data --md5 Streamer StartedAt: 2025-02-03 19:31:55 -0500 (Mon, 03 Feb 2025) EndedAt: 2025-02-03 19:32:13 -0500 (Mon, 03 Feb 2025) EllapsedTime: 18.0 seconds RetCode: 0 Status: OK PackageFile: Streamer_1.52.0.tar.gz PackageFileSize: 135.7 KiB