Package: Streamer Version: 1.52.0 Command: /home/biocbuild/bbs-3.20-bioc/R/bin/R CMD check --install=check:Streamer.install-out.txt --library=/home/biocbuild/bbs-3.20-bioc/R/site-library --timings Streamer_1.52.0.tar.gz StartedAt: 2025-02-11 02:49:28 -0500 (Tue, 11 Feb 2025) EndedAt: 2025-02-11 02:50:12 -0500 (Tue, 11 Feb 2025) EllapsedTime: 44.0 seconds RetCode: 0 Status: OK CheckDir: Streamer.Rcheck Warnings: 0