Package: Streamer Version: 1.52.0 Command: chmod a+r Streamer -R && F:\biocbuild\bbs-3.20-bioc\R\bin\R.exe CMD build --keep-empty-dirs --no-resave-data Streamer StartedAt: 2025-02-03 22:27:23 -0500 (Mon, 03 Feb 2025) EndedAt: 2025-02-03 22:28:04 -0500 (Mon, 03 Feb 2025) EllapsedTime: 41.0 seconds RetCode: 0 Status: OK PackageFile: Streamer_1.52.0.tar.gz PackageFileSize: 135 KiB