Package: Streamer Version: 1.52.0 Command: F:\biocbuild\bbs-3.20-bioc\R\bin\R.exe CMD INSTALL Streamer StartedAt: 2025-02-10 15:34:50 -0500 (Mon, 10 Feb 2025) EndedAt: 2025-02-10 15:35:34 -0500 (Mon, 10 Feb 2025) EllapsedTime: 43.6 seconds RetCode: 0 Status: OK