Package: StructuralVariantAnnotation Version: 1.22.0 Command: /Library/Frameworks/R.framework/Resources/bin/R CMD check --install=check:StructuralVariantAnnotation.install-out.txt --library=/Library/Frameworks/R.framework/Resources/library --no-vignettes --timings StructuralVariantAnnotation_1.22.0.tar.gz StartedAt: 2025-02-12 11:21:53 -0500 (Wed, 12 Feb 2025) EndedAt: 2025-02-12 11:30:31 -0500 (Wed, 12 Feb 2025) EllapsedTime: 517.9 seconds RetCode: 0 Status: OK CheckDir: StructuralVariantAnnotation.Rcheck Warnings: 0