Package: StructuralVariantAnnotation Version: 1.22.0 Command: /Library/Frameworks/R.framework/Resources/bin/R CMD build --keep-empty-dirs --no-resave-data StructuralVariantAnnotation StartedAt: 2025-02-03 22:44:07 -0500 (Mon, 03 Feb 2025) EndedAt: 2025-02-03 22:47:04 -0500 (Mon, 03 Feb 2025) EllapsedTime: 177.0 seconds RetCode: 0 Status: OK PackageFile: StructuralVariantAnnotation_1.22.0.tar.gz PackageFileSize: 962.1 KiB