Package: StructuralVariantAnnotation Version: 1.22.0 Command: /home/biocbuild/bbs-3.20-bioc/R/bin/R CMD INSTALL StructuralVariantAnnotation StartedAt: 2025-02-03 15:33:45 -0500 (Mon, 03 Feb 2025) EndedAt: 2025-02-03 15:34:28 -0500 (Mon, 03 Feb 2025) EllapsedTime: 42.3 seconds RetCode: 0 Status: OK