Package: StructuralVariantAnnotation Version: 1.22.0 Command: /home/biocbuild/R/R/bin/R CMD build --keep-empty-dirs --no-resave-data StructuralVariantAnnotation StartedAt: 2025-02-04 03:21:56 -0000 (Tue, 04 Feb 2025) EndedAt: 2025-02-04 03:23:55 -0000 (Tue, 04 Feb 2025) EllapsedTime: 119.1 seconds RetCode: 0 Status: OK PackageFile: StructuralVariantAnnotation_1.22.0.tar.gz PackageFileSize: 825.2 KiB