Package: StructuralVariantAnnotation Version: 1.22.0 Command: /home/biocbuild/R/R/bin/R CMD check --install=check:StructuralVariantAnnotation.install-out.txt --library=/home/biocbuild/R/R/site-library --no-vignettes --timings StructuralVariantAnnotation_1.22.0.tar.gz StartedAt: 2025-02-04 11:30:16 -0000 (Tue, 04 Feb 2025) EndedAt: 2025-02-04 11:39:53 -0000 (Tue, 04 Feb 2025) EllapsedTime: 576.8 seconds RetCode: 0 Status: OK CheckDir: StructuralVariantAnnotation.Rcheck Warnings: 0