Package: StructuralVariantAnnotation Version: 1.22.0 Command: /home/biocbuild/R/R/bin/R CMD INSTALL StructuralVariantAnnotation StartedAt: 2025-02-03 20:43:45 -0000 (Mon, 03 Feb 2025) EndedAt: 2025-02-03 20:44:34 -0000 (Mon, 03 Feb 2025) EllapsedTime: 49.5 seconds RetCode: 0 Status: OK