Package: SubCellBarCode Version: 1.22.0 Command: /Library/Frameworks/R.framework/Resources/bin/R CMD build --keep-empty-dirs --no-resave-data SubCellBarCode StartedAt: 2025-02-11 09:15:40 -0500 (Tue, 11 Feb 2025) EndedAt: 2025-02-11 09:20:31 -0500 (Tue, 11 Feb 2025) EllapsedTime: 290.8 seconds RetCode: 0 Status: OK PackageFile: SubCellBarCode_1.22.0.tar.gz PackageFileSize: 2.352 MiB