Package: SubCellBarCode Version: 1.22.0 Command: /Library/Frameworks/R.framework/Resources/bin/R CMD build --keep-empty-dirs --no-resave-data SubCellBarCode StartedAt: 2024-11-08 19:20:28 -0500 (Fri, 08 Nov 2024) EndedAt: 2024-11-08 19:22:01 -0500 (Fri, 08 Nov 2024) EllapsedTime: 93.0 seconds RetCode: 0 Status: OK PackageFile: SubCellBarCode_1.22.0.tar.gz PackageFileSize: 2.352 MiB