Package: SummarizedBenchmark Version: 2.24.0 Command: /Library/Frameworks/R.framework/Resources/bin/R CMD build --keep-empty-dirs --no-resave-data SummarizedBenchmark StartedAt: 2025-02-04 09:23:10 -0500 (Tue, 04 Feb 2025) EndedAt: 2025-02-04 09:27:17 -0500 (Tue, 04 Feb 2025) EllapsedTime: 246.8 seconds RetCode: 1 Status: ERROR PackageFile: None PackageFileSize: NA