Package: SummarizedBenchmark Version: 2.24.0 Command: /home/biocbuild/bbs-3.20-bioc/R/bin/R CMD build --keep-empty-dirs --no-resave-data --md5 SummarizedBenchmark StartedAt: 2025-02-10 19:25:37 -0500 (Mon, 10 Feb 2025) EndedAt: 2025-02-10 19:28:43 -0500 (Mon, 10 Feb 2025) EllapsedTime: 186.2 seconds RetCode: 1 Status: ERROR PackageFile: None PackageFileSize: NA