Package: SummarizedBenchmark Version: 2.24.0 Command: /home/biocbuild/bbs-3.20-bioc/R/bin/R CMD INSTALL SummarizedBenchmark StartedAt: 2025-02-03 15:28:57 -0500 (Mon, 03 Feb 2025) EndedAt: 2025-02-03 15:29:26 -0500 (Mon, 03 Feb 2025) EllapsedTime: 28.8 seconds RetCode: 0 Status: OK