Package: SummarizedBenchmark Version: 2.24.0 Command: F:\biocbuild\bbs-3.20-bioc\R\bin\R.exe CMD INSTALL SummarizedBenchmark StartedAt: 2025-01-30 15:58:16 -0500 (Thu, 30 Jan 2025) EndedAt: 2025-01-30 16:00:18 -0500 (Thu, 30 Jan 2025) EllapsedTime: 121.3 seconds RetCode: 0 Status: OK