Package: SummarizedExperiment Version: 1.36.0 Command: /Library/Frameworks/R.framework/Resources/bin/R CMD build --keep-empty-dirs --no-resave-data SummarizedExperiment StartedAt: 2025-02-04 09:24:10 -0500 (Tue, 04 Feb 2025) EndedAt: 2025-02-04 09:25:14 -0500 (Tue, 04 Feb 2025) EllapsedTime: 64.5 seconds RetCode: 0 Status: OK PackageFile: SummarizedExperiment_1.36.0.tar.gz PackageFileSize: 672.7 KiB