Package: SummarizedExperiment Version: 1.36.0 Command: /Library/Frameworks/R.framework/Resources/bin/R CMD check --install=check:SummarizedExperiment.install-out.txt --library=/Library/Frameworks/R.framework/Resources/library --no-vignettes --timings SummarizedExperiment_1.36.0.tar.gz StartedAt: 2025-02-05 12:08:20 -0500 (Wed, 05 Feb 2025) EndedAt: 2025-02-05 12:12:01 -0500 (Wed, 05 Feb 2025) EllapsedTime: 220.9 seconds RetCode: 0 Status: OK CheckDir: SummarizedExperiment.Rcheck Warnings: 0