Package: SummarizedExperiment Version: 1.36.0 Command: /home/biocbuild/bbs-3.20-bioc/R/bin/R CMD build --keep-empty-dirs --no-resave-data --md5 SummarizedExperiment StartedAt: 2025-02-03 19:33:09 -0500 (Mon, 03 Feb 2025) EndedAt: 2025-02-03 19:33:53 -0500 (Mon, 03 Feb 2025) EllapsedTime: 44.0 seconds RetCode: 0 Status: OK PackageFile: SummarizedExperiment_1.36.0.tar.gz PackageFileSize: 674.8 KiB