Package: SummarizedExperiment Version: 1.36.0 Command: rm -rf SummarizedExperiment.buildbin-libdir && mkdir SummarizedExperiment.buildbin-libdir && F:\biocbuild\bbs-3.20-bioc\R\bin\R.exe CMD INSTALL --build --library=SummarizedExperiment.buildbin-libdir SummarizedExperiment_1.36.0.tar.gz StartedAt: 2025-02-04 09:37:51 -0500 (Tue, 04 Feb 2025) EndedAt: 2025-02-04 09:42:53 -0500 (Tue, 04 Feb 2025) EllapsedTime: 302.3 seconds RetCode: 0 Status: OK PackageFile: SummarizedExperiment_1.36.0.zip PackageFileSize: 1.908 MiB