Package: SummarizedExperiment Version: 1.36.0 Command: chmod a+r SummarizedExperiment -R && F:\biocbuild\bbs-3.20-bioc\R\bin\R.exe CMD build --keep-empty-dirs --no-resave-data SummarizedExperiment StartedAt: 2025-02-03 22:28:44 -0500 (Mon, 03 Feb 2025) EndedAt: 2025-02-03 22:30:34 -0500 (Mon, 03 Feb 2025) EllapsedTime: 109.9 seconds RetCode: 0 Status: OK PackageFile: SummarizedExperiment_1.36.0.tar.gz PackageFileSize: 673.5 KiB