Package: SummarizedExperiment Version: 1.36.0 Command: /home/biocbuild/R/R/bin/R CMD build --keep-empty-dirs --no-resave-data SummarizedExperiment StartedAt: 2025-02-04 03:23:13 -0000 (Tue, 04 Feb 2025) EndedAt: 2025-02-04 03:24:24 -0000 (Tue, 04 Feb 2025) EllapsedTime: 71.1 seconds RetCode: 0 Status: OK PackageFile: SummarizedExperiment_1.36.0.tar.gz PackageFileSize: 762 KiB