Package: SummarizedExperiment Version: 1.36.0 Command: /home/biocbuild/R/R/bin/R CMD INSTALL SummarizedExperiment StartedAt: 2025-02-03 20:30:06 -0000 (Mon, 03 Feb 2025) EndedAt: 2025-02-03 20:30:41 -0000 (Mon, 03 Feb 2025) EllapsedTime: 34.8 seconds RetCode: 0 Status: OK