Package: Summix Version: 2.12.0 Command: /Library/Frameworks/R.framework/Resources/bin/R CMD build --keep-empty-dirs --no-resave-data Summix StartedAt: 2025-02-03 22:45:45 -0500 (Mon, 03 Feb 2025) EndedAt: 2025-02-03 22:46:20 -0500 (Mon, 03 Feb 2025) EllapsedTime: 35.3 seconds RetCode: 0 Status: OK PackageFile: Summix_2.12.0.tar.gz PackageFileSize: 1.254 MiB