Package: SwathXtend Version: 2.28.0 Command: /Library/Frameworks/R.framework/Resources/bin/R CMD INSTALL SwathXtend StartedAt: 2025-01-30 18:03:10 -0500 (Thu, 30 Jan 2025) EndedAt: 2025-01-30 18:03:15 -0500 (Thu, 30 Jan 2025) EllapsedTime: 4.7 seconds RetCode: 0 Status: OK