Package: SwathXtend Version: 2.28.0 Command: /Library/Frameworks/R.framework/Resources/bin/R CMD build --keep-empty-dirs --no-resave-data SwathXtend StartedAt: 2025-01-30 23:19:19 -0500 (Thu, 30 Jan 2025) EndedAt: 2025-01-30 23:27:22 -0500 (Thu, 30 Jan 2025) EllapsedTime: 483.6 seconds RetCode: 0 Status: OK PackageFile: SwathXtend_2.28.0.tar.gz PackageFileSize: 346.3 MiB