Package: SwathXtend Version: 2.28.0 Command: /home/biocbuild/bbs-3.20-bioc/R/bin/R CMD build --keep-empty-dirs --no-resave-data --md5 SwathXtend StartedAt: 2025-01-30 19:24:30 -0500 (Thu, 30 Jan 2025) EndedAt: 2025-01-30 19:27:36 -0500 (Thu, 30 Jan 2025) EllapsedTime: 186.2 seconds RetCode: 0 Status: OK PackageFile: SwathXtend_2.28.0.tar.gz PackageFileSize: 346.5 MiB