Package: SwathXtend Version: 2.28.0 Command: rm -rf SwathXtend.buildbin-libdir && mkdir SwathXtend.buildbin-libdir && F:\biocbuild\bbs-3.20-bioc\R\bin\R.exe CMD INSTALL --build --library=SwathXtend.buildbin-libdir SwathXtend_2.28.0.tar.gz StartedAt: 2025-01-31 09:45:06 -0500 (Fri, 31 Jan 2025) EndedAt: 2025-01-31 09:46:11 -0500 (Fri, 31 Jan 2025) EllapsedTime: 65.9 seconds RetCode: 0 Status: OK PackageFile: SwathXtend_2.28.0.zip PackageFileSize: 346.2 MiB